BEGIN:VCALENDAR
VERSION:2.0
PRODID:-//jEvents 2.0 for Joomla//EN
CALSCALE:GREGORIAN
METHOD:PUBLISH
BEGIN:VTIMEZONE
TZID:Europe/Berlin
BEGIN:STANDARD
DTSTART:20221030T020000
RDATE:20230326T030000
TZOFFSETFROM:+0200
TZOFFSETTO:+0100
TZNAME:Europe/Berlin CET
END:STANDARD
BEGIN:STANDARD
DTSTART:20231029T020000
RDATE:20240331T030000
TZOFFSETFROM:+0200
TZOFFSETTO:+0100
TZNAME:Europe/Berlin CET
END:STANDARD
BEGIN:STANDARD
DTSTART:20241027T020000
RDATE:20250330T030000
TZOFFSETFROM:+0200
TZOFFSETTO:+0100
TZNAME:Europe/Berlin CET
END:STANDARD
BEGIN:STANDARD
DTSTART:20251026T020000
RDATE:20260329T030000
TZOFFSETFROM:+0200
TZOFFSETTO:+0100
TZNAME:Europe/Berlin CET
END:STANDARD
BEGIN:STANDARD
DTSTART:20261025T020000
RDATE:20270328T030000
TZOFFSETFROM:+0200
TZOFFSETTO:+0100
TZNAME:Europe/Berlin CET
END:STANDARD
BEGIN:STANDARD
DTSTART:20271031T020000
RDATE:20280326T030000
TZOFFSETFROM:+0200
TZOFFSETTO:+0100
TZNAME:Europe/Berlin CET
END:STANDARD
BEGIN:STANDARD
DTSTART:20281029T020000
RDATE:20290325T030000
TZOFFSETFROM:+0200
TZOFFSETTO:+0100
TZNAME:Europe/Berlin CET
END:STANDARD
BEGIN:STANDARD
DTSTART:20291028T020000
RDATE:20300331T030000
TZOFFSETFROM:+0200
TZOFFSETTO:+0100
TZNAME:Europe/Berlin CET
END:STANDARD
BEGIN:STANDARD
DTSTART:20301027T020000
RDATE:20310330T030000
TZOFFSETFROM:+0200
TZOFFSETTO:+0100
TZNAME:Europe/Berlin CET
END:STANDARD
BEGIN:STANDARD
DTSTART:20311026T020000
RDATE:20320328T030000
TZOFFSETFROM:+0200
TZOFFSETTO:+0100
TZNAME:Europe/Berlin CET
END:STANDARD
BEGIN:STANDARD
DTSTART:20321031T020000
RDATE:20330327T030000
TZOFFSETFROM:+0200
TZOFFSETTO:+0100
TZNAME:Europe/Berlin CET
END:STANDARD
BEGIN:STANDARD
DTSTART:20331030T020000
RDATE:20340326T030000
TZOFFSETFROM:+0200
TZOFFSETTO:+0100
TZNAME:Europe/Berlin CET
END:STANDARD
BEGIN:STANDARD
DTSTART:20341029T020000
RDATE:20350325T030000
TZOFFSETFROM:+0200
TZOFFSETTO:+0100
TZNAME:Europe/Berlin CET
END:STANDARD
BEGIN:STANDARD
DTSTART:20351028T020000
RDATE:20360330T030000
TZOFFSETFROM:+0200
TZOFFSETTO:+0100
TZNAME:Europe/Berlin CET
END:STANDARD
BEGIN:STANDARD
DTSTART:20361026T020000
RDATE:20370329T030000
TZOFFSETFROM:+0200
TZOFFSETTO:+0100
TZNAME:Europe/Berlin CET
END:STANDARD
BEGIN:DAYLIGHT
DTSTART:20220522T093000
RDATE:20221030T020000
TZOFFSETFROM:+0100
TZOFFSETTO:+0200
TZNAME:Europe/Berlin CEST
END:DAYLIGHT
BEGIN:DAYLIGHT
DTSTART:20230326T030000
RDATE:20231029T020000
TZOFFSETFROM:+0100
TZOFFSETTO:+0200
TZNAME:Europe/Berlin CEST
END:DAYLIGHT
BEGIN:DAYLIGHT
DTSTART:20240331T030000
RDATE:20241027T020000
TZOFFSETFROM:+0100
TZOFFSETTO:+0200
TZNAME:Europe/Berlin CEST
END:DAYLIGHT
BEGIN:DAYLIGHT
DTSTART:20250330T030000
RDATE:20251026T020000
TZOFFSETFROM:+0100
TZOFFSETTO:+0200
TZNAME:Europe/Berlin CEST
END:DAYLIGHT
BEGIN:DAYLIGHT
DTSTART:20260329T030000
RDATE:20261025T020000
TZOFFSETFROM:+0100
TZOFFSETTO:+0200
TZNAME:Europe/Berlin CEST
END:DAYLIGHT
BEGIN:DAYLIGHT
DTSTART:20270328T030000
RDATE:20271031T020000
TZOFFSETFROM:+0100
TZOFFSETTO:+0200
TZNAME:Europe/Berlin CEST
END:DAYLIGHT
BEGIN:DAYLIGHT
DTSTART:20280326T030000
RDATE:20281029T020000
TZOFFSETFROM:+0100
TZOFFSETTO:+0200
TZNAME:Europe/Berlin CEST
END:DAYLIGHT
BEGIN:DAYLIGHT
DTSTART:20290325T030000
RDATE:20291028T020000
TZOFFSETFROM:+0100
TZOFFSETTO:+0200
TZNAME:Europe/Berlin CEST
END:DAYLIGHT
BEGIN:DAYLIGHT
DTSTART:20300331T030000
RDATE:20301027T020000
TZOFFSETFROM:+0100
TZOFFSETTO:+0200
TZNAME:Europe/Berlin CEST
END:DAYLIGHT
BEGIN:DAYLIGHT
DTSTART:20310330T030000
RDATE:20311026T020000
TZOFFSETFROM:+0100
TZOFFSETTO:+0200
TZNAME:Europe/Berlin CEST
END:DAYLIGHT
BEGIN:DAYLIGHT
DTSTART:20320328T030000
RDATE:20321031T020000
TZOFFSETFROM:+0100
TZOFFSETTO:+0200
TZNAME:Europe/Berlin CEST
END:DAYLIGHT
BEGIN:DAYLIGHT
DTSTART:20330327T030000
RDATE:20331030T020000
TZOFFSETFROM:+0100
TZOFFSETTO:+0200
TZNAME:Europe/Berlin CEST
END:DAYLIGHT
BEGIN:DAYLIGHT
DTSTART:20340326T030000
RDATE:20341029T020000
TZOFFSETFROM:+0100
TZOFFSETTO:+0200
TZNAME:Europe/Berlin CEST
END:DAYLIGHT
BEGIN:DAYLIGHT
DTSTART:20350325T030000
RDATE:20351028T020000
TZOFFSETFROM:+0100
TZOFFSETTO:+0200
TZNAME:Europe/Berlin CEST
END:DAYLIGHT
BEGIN:DAYLIGHT
DTSTART:20360330T030000
RDATE:20361026T020000
TZOFFSETFROM:+0100
TZOFFSETTO:+0200
TZNAME:Europe/Berlin CEST
END:DAYLIGHT
END:VTIMEZONE
BEGIN:VEVENT
UID:b80d6cecbe5a44973e271a7c42c28c20
CATEGORIES:AWCH Calendar
CREATED:20230424T143754
SUMMARY:US Embassy Services in Hamburg
LOCATION:US Consulate General Hamburg in Hafencity
DESCRIPTION:The U.S. Embassy in Berlin will offer consular services in Hamburg on Tuesd
 ay, May 23, for U.S. citizens seeking to renew their passports and/or obtai
 n Consular Reports of Birth Abroad for their minor children born in Germany
 . Sign up for your appointment ASAP, as time slots are assigned in the orde
 r they receive requests. The cutoff date for appointment requests is May 12
 . \nAppointments will be held at the U.S. Consulate General Hamburg's new H
 afencity location.  Time slots will be available between 9:30 and 15:30.  \
 nTo schedule an appointment, please send an email with the following inform
 ation to This email address is being protected from spambots. You need Java
 Script enabled to view it.:   \nSUBJECT LINE: "XHH - Hamburg 23 May Appoint
 ment Request - YOUR FULL NAME" \nIN THE BODY OF THE EMAIL, PLEASE PROVIDE T
 HE INFORMATION BELOW \nFor each person requesting a passport service: \no  
            Full name: \no             Date of birth:  \no             Issua
 nce and expiration dates of their most recent U.S. passport (if applicable)
 : \nFor each child requesting a Consular Report of Birth Abroad (CRBA): \no
              Child's full name: \no             Date of birth: \no         
     U.S. citizen parent's name and date of birth: \nWith your appointment c
 onfirmation, we will provide detailed instructions regarding forms, fees, a
 nd photo requirements.  The processing and delivery time for complete appli
 cations will be approximately four weeks.  \n
X-ALT-DESC;FMTTYPE=text/html:<p>The U.S. Embassy in Berlin will offer consular services in Hamburg on Tu
 esday, May 23, for U.S. citizens seeking to renew their passports and/or ob
 tain Consular Reports of Birth Abroad for their minor children born in Germ
 any. Sign up for your appointment ASAP, as time slots are assigned in the o
 rder they receive requests.&nbsp;The cutoff date for appointment requests i
 s May 12.&nbsp;</p><p>Appointments will be held at the U.S. Consulate Gener
 al Hamburg's new&nbsp;Hafencity&nbsp;location.  Time slots will be availabl
 e between 9:30 and 15:30. &nbsp;</p><hr /><p>To schedule an appointment, pl
 ease send an email with the following information to <joomla-hidden-mail  i
 s-link="1" is-email="1" first="QUNTQmVybGlu" last="c3RhdGUuZ292" text="QUNT
 QmVybGluQHN0YXRlLmdvdg==" base="" >This email address is being protected fr
 om spambots. You need JavaScript enabled to view it.</joomla-hidden-mail>:&
 nbsp;<span style="background-color: inherit; color: inherit; font-family: i
 nherit; font-size: 1rem;"> &nbsp;</span></p><p><strong>SUBJECT LINE:</stron
 g> "XHH - Hamburg 23 May Appointment Request - YOUR FULL NAME"&nbsp;</p><p>
 <strong>IN THE BODY OF THE EMAIL, PLEASE PROVIDE THE INFORMATION BELOW&nbsp
 ;</strong></p><p><strong>For each person requesting a passport service:&nbs
 p;</strong></p><p>o             Full name:&nbsp;</p><p>o             Date o
 f birth: &nbsp;</p><p>o             Issuance and expiration dates of their 
 most recent U.S. passport (if applicable):&nbsp;</p><p><strong>For each chi
 ld requesting a Consular Report of Birth Abroad (CRBA):</strong>&nbsp;</p><
 p>o             Child's full name:&nbsp;</p><p>o             Date of birth:
 &nbsp;</p><p>o             U.S. citizen parent's name and date of birth:&nb
 sp;</p><p>With your appointment confirmation, we will provide detailed inst
 ructions regarding forms, fees, and photo requirements.  The processing and
  delivery time for complete applications will be approximately four weeks. 
 &nbsp;</p>
CONTACT: This email address is being protected from spambots. You need JavaScript enabled to view it.
DTSTAMP:20260423T224756
DTSTART;TZID=Europe/Berlin:20230523T093000
DTEND;TZID=Europe/Berlin:20230523T153000
SEQUENCE:0
TRANSP:OPAQUE
END:VEVENT
END:VCALENDAR