BEGIN:VCALENDAR
VERSION:2.0
PRODID:-//jEvents 2.0 for Joomla//EN
CALSCALE:GREGORIAN
METHOD:PUBLISH
BEGIN:VTIMEZONE
TZID:Europe/Berlin
BEGIN:STANDARD
DTSTART:20241115T153000
RDATE:20250330T030000
TZOFFSETFROM:+0200
TZOFFSETTO:+0100
TZNAME:Europe/Berlin CET
END:STANDARD
BEGIN:STANDARD
DTSTART:20251026T020000
RDATE:20260329T030000
TZOFFSETFROM:+0200
TZOFFSETTO:+0100
TZNAME:Europe/Berlin CET
END:STANDARD
BEGIN:STANDARD
DTSTART:20261025T020000
RDATE:20270328T030000
TZOFFSETFROM:+0200
TZOFFSETTO:+0100
TZNAME:Europe/Berlin CET
END:STANDARD
BEGIN:STANDARD
DTSTART:20271031T020000
RDATE:20280326T030000
TZOFFSETFROM:+0200
TZOFFSETTO:+0100
TZNAME:Europe/Berlin CET
END:STANDARD
BEGIN:STANDARD
DTSTART:20281029T020000
RDATE:20290325T030000
TZOFFSETFROM:+0200
TZOFFSETTO:+0100
TZNAME:Europe/Berlin CET
END:STANDARD
BEGIN:STANDARD
DTSTART:20291028T020000
RDATE:20300331T030000
TZOFFSETFROM:+0200
TZOFFSETTO:+0100
TZNAME:Europe/Berlin CET
END:STANDARD
BEGIN:STANDARD
DTSTART:20301027T020000
RDATE:20310330T030000
TZOFFSETFROM:+0200
TZOFFSETTO:+0100
TZNAME:Europe/Berlin CET
END:STANDARD
BEGIN:STANDARD
DTSTART:20311026T020000
RDATE:20320328T030000
TZOFFSETFROM:+0200
TZOFFSETTO:+0100
TZNAME:Europe/Berlin CET
END:STANDARD
BEGIN:STANDARD
DTSTART:20321031T020000
RDATE:20330327T030000
TZOFFSETFROM:+0200
TZOFFSETTO:+0100
TZNAME:Europe/Berlin CET
END:STANDARD
BEGIN:STANDARD
DTSTART:20331030T020000
RDATE:20340326T030000
TZOFFSETFROM:+0200
TZOFFSETTO:+0100
TZNAME:Europe/Berlin CET
END:STANDARD
BEGIN:STANDARD
DTSTART:20341029T020000
RDATE:20350325T030000
TZOFFSETFROM:+0200
TZOFFSETTO:+0100
TZNAME:Europe/Berlin CET
END:STANDARD
BEGIN:STANDARD
DTSTART:20351028T020000
RDATE:20360330T030000
TZOFFSETFROM:+0200
TZOFFSETTO:+0100
TZNAME:Europe/Berlin CET
END:STANDARD
BEGIN:STANDARD
DTSTART:20361026T020000
RDATE:20370329T030000
TZOFFSETFROM:+0200
TZOFFSETTO:+0100
TZNAME:Europe/Berlin CET
END:STANDARD
BEGIN:DAYLIGHT
DTSTART:20250330T030000
RDATE:20251026T020000
TZOFFSETFROM:+0100
TZOFFSETTO:+0200
TZNAME:Europe/Berlin CEST
END:DAYLIGHT
BEGIN:DAYLIGHT
DTSTART:20260329T030000
RDATE:20261025T020000
TZOFFSETFROM:+0100
TZOFFSETTO:+0200
TZNAME:Europe/Berlin CEST
END:DAYLIGHT
BEGIN:DAYLIGHT
DTSTART:20270328T030000
RDATE:20271031T020000
TZOFFSETFROM:+0100
TZOFFSETTO:+0200
TZNAME:Europe/Berlin CEST
END:DAYLIGHT
BEGIN:DAYLIGHT
DTSTART:20280326T030000
RDATE:20281029T020000
TZOFFSETFROM:+0100
TZOFFSETTO:+0200
TZNAME:Europe/Berlin CEST
END:DAYLIGHT
BEGIN:DAYLIGHT
DTSTART:20290325T030000
RDATE:20291028T020000
TZOFFSETFROM:+0100
TZOFFSETTO:+0200
TZNAME:Europe/Berlin CEST
END:DAYLIGHT
BEGIN:DAYLIGHT
DTSTART:20300331T030000
RDATE:20301027T020000
TZOFFSETFROM:+0100
TZOFFSETTO:+0200
TZNAME:Europe/Berlin CEST
END:DAYLIGHT
BEGIN:DAYLIGHT
DTSTART:20310330T030000
RDATE:20311026T020000
TZOFFSETFROM:+0100
TZOFFSETTO:+0200
TZNAME:Europe/Berlin CEST
END:DAYLIGHT
BEGIN:DAYLIGHT
DTSTART:20320328T030000
RDATE:20321031T020000
TZOFFSETFROM:+0100
TZOFFSETTO:+0200
TZNAME:Europe/Berlin CEST
END:DAYLIGHT
BEGIN:DAYLIGHT
DTSTART:20330327T030000
RDATE:20331030T020000
TZOFFSETFROM:+0100
TZOFFSETTO:+0200
TZNAME:Europe/Berlin CEST
END:DAYLIGHT
BEGIN:DAYLIGHT
DTSTART:20340326T030000
RDATE:20341029T020000
TZOFFSETFROM:+0100
TZOFFSETTO:+0200
TZNAME:Europe/Berlin CEST
END:DAYLIGHT
BEGIN:DAYLIGHT
DTSTART:20350325T030000
RDATE:20351028T020000
TZOFFSETFROM:+0100
TZOFFSETTO:+0200
TZNAME:Europe/Berlin CEST
END:DAYLIGHT
BEGIN:DAYLIGHT
DTSTART:20360330T030000
RDATE:20361026T020000
TZOFFSETFROM:+0100
TZOFFSETTO:+0200
TZNAME:Europe/Berlin CEST
END:DAYLIGHT
END:VTIMEZONE
BEGIN:VEVENT
UID:3b3088a1469e9b022a350607b33eaa23
CATEGORIES:AWCH Calendar
CREATED:20251031T114839
SUMMARY:Author's event!
LOCATION:Abaton Kino\, Allende-Platz 3\, 20146 Hamburg
DESCRIPTION:  \n                                                                       
 An Afternoon with: Cynthia Miller-Idriss                                   
                                     Book Launch and Conversation –         
                                     Man Up: The New Misogyny and the Rise o
 f Violent Extremism                                                        
              (Princeton University Press, 2025)  Cynthia Miller-Idriss, a l
 eading expert on extremism and radicalization, presents her urgent and prov
 ocative new book Man Up, which explores how misogyny is not merely a side e
 ffect but a central force driving violent extremism worldwide. Through grip
 ping stories, sharp analysis, and compelling research, she reveals how gend
 er-based resentments fuel the rise of hate movements — and why understandin
 g this connection is vital to combating them.\nThe event will feature a con
 versation with Miller-Idriss, followed by audience Q&amp;A and a book signi
 ng. Books will be available for purchase.\nWhether you are a student, educa
 tor, policymaker, activist, or concerned citizen, this timely discussion of
 fers valuable insights into the intersections of gender, violence, and extr
 emism in today’s political climate.\nPlease note: We ask all attendees to e
 ngage respectfully and thoughtfully throughout the event to ensure a safe a
 nd welcoming environment for everyone.\nRegister now (https://cynthiamiller
 idriss.rsvpify.com/) to secure your spot — don’t miss this important conver
 sation!\n \nDate: Sunday, November 16, 2025\nTime: 3:30 PM\nLocation: Abato
 n Kino, Allende-Platz 3, 20146 Hamburg\nAdmission: Free (registration requi
 red in order to attend)\nLanguage of Event: English\n
X-ALT-DESC;FMTTYPE=text/html:<p><strong><strong>&nbsp;&nbsp;</strong></strong></p><div><strong>&nbsp; &n
 bsp; &nbsp; &nbsp; &nbsp; &nbsp; &nbsp; &nbsp; &nbsp; &nbsp; &nbsp; &nbsp; 
 &nbsp; &nbsp; &nbsp; &nbsp; &nbsp; &nbsp; &nbsp; &nbsp; &nbsp; &nbsp; &nbsp
 ; &nbsp; &nbsp; &nbsp; &nbsp; &nbsp; &nbsp; &nbsp; &nbsp; &nbsp; &nbsp; &nb
 sp; &nbsp; &nbsp;An&nbsp;</strong><strong>Afternoon&nbsp;with</strong><stro
 ng>:&nbsp;Cynthia Miller-Idriss</strong></div><div><em>&nbsp; &nbsp; &nbsp;
  &nbsp; &nbsp; &nbsp; &nbsp; &nbsp; &nbsp; &nbsp; &nbsp; &nbsp; &nbsp; &nbs
 p; &nbsp; &nbsp; &nbsp; &nbsp; &nbsp; &nbsp; &nbsp; &nbsp; &nbsp; &nbsp; &n
 bsp; &nbsp; &nbsp; &nbsp; &nbsp; &nbsp; &nbsp; &nbsp; &nbsp; &nbsp; &nbsp; 
 &nbsp;Book Launch and Conversation –&nbsp;</em>&nbsp;</div><div><strong>&nb
 sp; &nbsp; &nbsp; &nbsp; &nbsp; &nbsp; &nbsp; &nbsp; &nbsp; &nbsp; &nbsp; &
 nbsp; &nbsp; &nbsp; &nbsp; &nbsp; &nbsp; &nbsp; &nbsp; &nbsp; &nbsp; &nbsp;
 Man Up: The New Misogyny and the Rise of Violent Extremism</strong><strong>
 &nbsp;</strong></div><div><strong>&nbsp; &nbsp; &nbsp; &nbsp; &nbsp; &nbsp;
  &nbsp; &nbsp; &nbsp; &nbsp; &nbsp; &nbsp; &nbsp; &nbsp; &nbsp; &nbsp; &nbs
 p; &nbsp; &nbsp; &nbsp; &nbsp; &nbsp; &nbsp; &nbsp; &nbsp; &nbsp; &nbsp; &n
 bsp; &nbsp; &nbsp; &nbsp; &nbsp; &nbsp; &nbsp; (Princeton University Press,
  2025)</strong></div><div>&nbsp;</div><div>&nbsp;</div><div><p><span style=
 "font-family: arial, sans-serif;"><b>Cynthia Miller-Idriss</b>, a leading e
 xpert on extremism and radicalization, presents her urgent and provocative 
 new book&nbsp;<em>Man Up</em>, which explores how misogyny is not merely a 
 side effect but a central force driving violent extremism worldwide. Throug
 h gripping stories, sharp analysis, and compelling research, she reveals ho
 w gender-based resentments fuel the rise of hate movements — and why unders
 tanding this connection is vital to combating them.</span></p><p><span styl
 e="font-family: arial, sans-serif;">The event will feature a conversation w
 ith Miller-Idriss, followed by audience Q&amp;A and a book signing. Books w
 ill be available for purchase.</span></p><p><span style="font-family: arial
 , sans-serif;">Whether you are a student, educator, policymaker, activist, 
 or concerned citizen, this timely discussion offers valuable insights into 
 the intersections of gender, violence, and extremism in today’s political c
 limate.</span></p><p><span style="font-family: arial, sans-serif;"><strong>
 Please note:</strong>&nbsp;We ask all attendees to engage&nbsp;<b>respectfu
 lly and thoughtfully</b>&nbsp;throughout the event to ensure a safe and wel
 coming environment for everyone.</span></p><p><span style="font-family: ari
 al, sans-serif;"><strong><a href="https://cynthiamilleridriss.rsvpify.com/"
  target="_blank" rel="noopener" data-saferedirecturl="https://www.google.co
 m/url?q=https://cynthiamilleridriss.rsvpify.com&amp;source=gmail&amp;ust=17
 61993030609000&amp;usg=AOvVaw3KJzKsT4B8B7bA3I7m0oaT">Register now</a>&nbsp;
 to secure your spot — don’t miss this important conversation!</strong></spa
 n></p><p>&nbsp;</p><p><strong>Date:</strong>&nbsp;Sunday, November 16, 2025
 <br /><strong>Time:</strong>&nbsp;3:30 PM<br /><strong>Location:</strong>&n
 bsp;Abaton Kino, Allende-Platz 3, 20146 Hamburg<br /><strong>Admission:</st
 rong>&nbsp;Free (registration&nbsp;<i><span style="text-decoration: underli
 ne;">required</span>&nbsp;</i>in order to attend)<br /><strong>Language of 
 Event:</strong>&nbsp;English</p></div>
DTSTAMP:20260422T023410
DTSTART;TZID=Europe/Berlin:20251116T153000
SEQUENCE:0
TRANSP:OPAQUE
END:VEVENT
END:VCALENDAR