BEGIN:VCALENDAR
VERSION:2.0
PRODID:-//jEvents 2.0 for Joomla//EN
CALSCALE:GREGORIAN
METHOD:PUBLISH
BEGIN:VTIMEZONE
TZID:Europe/Berlin
BEGIN:STANDARD
DTSTART:20231110T120000
RDATE:20240331T030000
TZOFFSETFROM:+0200
TZOFFSETTO:+0100
TZNAME:Europe/Berlin CET
END:STANDARD
BEGIN:STANDARD
DTSTART:20241027T020000
RDATE:20250330T030000
TZOFFSETFROM:+0200
TZOFFSETTO:+0100
TZNAME:Europe/Berlin CET
END:STANDARD
BEGIN:STANDARD
DTSTART:20251026T020000
RDATE:20260329T030000
TZOFFSETFROM:+0200
TZOFFSETTO:+0100
TZNAME:Europe/Berlin CET
END:STANDARD
BEGIN:STANDARD
DTSTART:20261025T020000
RDATE:20270328T030000
TZOFFSETFROM:+0200
TZOFFSETTO:+0100
TZNAME:Europe/Berlin CET
END:STANDARD
BEGIN:STANDARD
DTSTART:20271031T020000
RDATE:20280326T030000
TZOFFSETFROM:+0200
TZOFFSETTO:+0100
TZNAME:Europe/Berlin CET
END:STANDARD
BEGIN:STANDARD
DTSTART:20281029T020000
RDATE:20290325T030000
TZOFFSETFROM:+0200
TZOFFSETTO:+0100
TZNAME:Europe/Berlin CET
END:STANDARD
BEGIN:STANDARD
DTSTART:20291028T020000
RDATE:20300331T030000
TZOFFSETFROM:+0200
TZOFFSETTO:+0100
TZNAME:Europe/Berlin CET
END:STANDARD
BEGIN:STANDARD
DTSTART:20301027T020000
RDATE:20310330T030000
TZOFFSETFROM:+0200
TZOFFSETTO:+0100
TZNAME:Europe/Berlin CET
END:STANDARD
BEGIN:STANDARD
DTSTART:20311026T020000
RDATE:20320328T030000
TZOFFSETFROM:+0200
TZOFFSETTO:+0100
TZNAME:Europe/Berlin CET
END:STANDARD
BEGIN:STANDARD
DTSTART:20321031T020000
RDATE:20330327T030000
TZOFFSETFROM:+0200
TZOFFSETTO:+0100
TZNAME:Europe/Berlin CET
END:STANDARD
BEGIN:STANDARD
DTSTART:20331030T020000
RDATE:20340326T030000
TZOFFSETFROM:+0200
TZOFFSETTO:+0100
TZNAME:Europe/Berlin CET
END:STANDARD
BEGIN:STANDARD
DTSTART:20341029T020000
RDATE:20350325T030000
TZOFFSETFROM:+0200
TZOFFSETTO:+0100
TZNAME:Europe/Berlin CET
END:STANDARD
BEGIN:STANDARD
DTSTART:20351028T020000
RDATE:20360330T030000
TZOFFSETFROM:+0200
TZOFFSETTO:+0100
TZNAME:Europe/Berlin CET
END:STANDARD
BEGIN:STANDARD
DTSTART:20361026T020000
RDATE:20370329T030000
TZOFFSETFROM:+0200
TZOFFSETTO:+0100
TZNAME:Europe/Berlin CET
END:STANDARD
BEGIN:DAYLIGHT
DTSTART:20240331T030000
RDATE:20241027T020000
TZOFFSETFROM:+0100
TZOFFSETTO:+0200
TZNAME:Europe/Berlin CEST
END:DAYLIGHT
BEGIN:DAYLIGHT
DTSTART:20250330T030000
RDATE:20251026T020000
TZOFFSETFROM:+0100
TZOFFSETTO:+0200
TZNAME:Europe/Berlin CEST
END:DAYLIGHT
BEGIN:DAYLIGHT
DTSTART:20260329T030000
RDATE:20261025T020000
TZOFFSETFROM:+0100
TZOFFSETTO:+0200
TZNAME:Europe/Berlin CEST
END:DAYLIGHT
BEGIN:DAYLIGHT
DTSTART:20270328T030000
RDATE:20271031T020000
TZOFFSETFROM:+0100
TZOFFSETTO:+0200
TZNAME:Europe/Berlin CEST
END:DAYLIGHT
BEGIN:DAYLIGHT
DTSTART:20280326T030000
RDATE:20281029T020000
TZOFFSETFROM:+0100
TZOFFSETTO:+0200
TZNAME:Europe/Berlin CEST
END:DAYLIGHT
BEGIN:DAYLIGHT
DTSTART:20290325T030000
RDATE:20291028T020000
TZOFFSETFROM:+0100
TZOFFSETTO:+0200
TZNAME:Europe/Berlin CEST
END:DAYLIGHT
BEGIN:DAYLIGHT
DTSTART:20300331T030000
RDATE:20301027T020000
TZOFFSETFROM:+0100
TZOFFSETTO:+0200
TZNAME:Europe/Berlin CEST
END:DAYLIGHT
BEGIN:DAYLIGHT
DTSTART:20310330T030000
RDATE:20311026T020000
TZOFFSETFROM:+0100
TZOFFSETTO:+0200
TZNAME:Europe/Berlin CEST
END:DAYLIGHT
BEGIN:DAYLIGHT
DTSTART:20320328T030000
RDATE:20321031T020000
TZOFFSETFROM:+0100
TZOFFSETTO:+0200
TZNAME:Europe/Berlin CEST
END:DAYLIGHT
BEGIN:DAYLIGHT
DTSTART:20330327T030000
RDATE:20331030T020000
TZOFFSETFROM:+0100
TZOFFSETTO:+0200
TZNAME:Europe/Berlin CEST
END:DAYLIGHT
BEGIN:DAYLIGHT
DTSTART:20340326T030000
RDATE:20341029T020000
TZOFFSETFROM:+0100
TZOFFSETTO:+0200
TZNAME:Europe/Berlin CEST
END:DAYLIGHT
BEGIN:DAYLIGHT
DTSTART:20350325T030000
RDATE:20351028T020000
TZOFFSETFROM:+0100
TZOFFSETTO:+0200
TZNAME:Europe/Berlin CEST
END:DAYLIGHT
BEGIN:DAYLIGHT
DTSTART:20360330T030000
RDATE:20361026T020000
TZOFFSETFROM:+0100
TZOFFSETTO:+0200
TZNAME:Europe/Berlin CEST
END:DAYLIGHT
END:VTIMEZONE
BEGIN:VEVENT
UID:ef1e18015140eff2479f2bd098092e29
CATEGORIES:Hamburg Happenings
CREATED:20240926T103507
SUMMARY:Hanseatic Help's SWAP Party!
DESCRIPTION:CLOTHING SWAP\nDo you have clothes in your closet that you no longer wear b
 ut could still bring joy to others? Then come to Hanseatic Help’s huge clot
 hing swap party and exchange your items for something new to you. You can b
 ring up to 15 items. 👕 All adult sizes and genders are welcome (please note
 : no children's clothes or underwear). \n\n📌 Clothing drop-off is from 12–4
  PM.\n 🍰 Cake and drinks will be available on-site for a small donation. \n
 📦 Interested in learning more? There will be free guided tours of the venue
  at 2:00 PM and 3:00 PM.\nVOLUNTEER &amp; GIVE BACK!\nHanseatic Help provid
 ed three volunteers and a fantastic location with all the amenities for a f
 un-filled AWCH swap party in September. Please consider helping out at Hans
 eatic Help’s upcoming swap party. This is a great opportunity to give back 
 and show our appreciation for this excellent organization. Join us for what
 ever  time you could give. Over 200 people attended the last Hanseatic Help
  event, so our help is definitely needed. \nDETAILS\nWhen: Nov. 10, 12:00 t
 o 5:00 p.m.\nWhere: Hanseatic Help, Große Elbstraße 264 22767 Hamburg\nWho:
  Open to the public\nCost: Bring up to 15 pieces of clothes to swap\nVolunt
 eer: If you can help, contact Jennifer or Holly, This email address is bein
 g protected from spambots. You need JavaScript enabled to view it.\n\n\n
X-ALT-DESC;FMTTYPE=text/html:<p><strong>CLOTHING SWAP</strong></p><p>Do you have clothes in your closet 
 that you no longer wear but could still bring joy to others? Then come to H
 anseatic Help’s huge clothing swap party and exchange your items for someth
 ing new to you. You can bring up to 15 items.&nbsp;<span class="s4">👕</span
 >&nbsp;All adult sizes and genders are welcome (please note: no children's 
 clothes or underwear).&nbsp;<br /><br /><span class="s4">📌</span>&nbsp;Clot
 hing drop-off is from 12–4 PM.</p><p>&nbsp;<span class="s4">🍰</span>&nbsp;C
 ake and drinks will be available on-site for a small donation.&nbsp;</p><p>
 <span class="s4">📦</span>&nbsp;Interested in learning more? There will be f
 ree guided tours of the venue at 2:00 PM and 3:00 PM.</p><hr /><p><b>VOLUNT
 EER &amp; GIVE BACK!</b></p><p>Hanseatic Help provided&nbsp;three volunteer
 s&nbsp;and a fantastic location with all the amenities for a fun-filled&nbs
 p;AWCH&nbsp;swap party&nbsp;in September. Please consider helping out&nbsp;
 at Hanseatic Help’s upcoming swap party.&nbsp;This is a great opportunity t
 o give back and show our appreciation for this excellent organization. Join
  us for whatever &nbsp;time you could give. Over 200 people attended the&nb
 sp;last Hanseatic Help&nbsp;event,&nbsp;so our help&nbsp;is&nbsp;definitely
  needed.&nbsp;</p><hr /><p><strong>DETAILS</strong><br /><strong>When</stro
 ng>: Nov. 10, 12:00 to 5:00 p.m.<br /><strong>Where</strong>: Hanseatic Hel
 p,&nbsp;Große Elbstraße 264 22767 Hamburg<br /><strong>Who</strong>: Open t
 o the public<br /><strong>Cost</strong>: Bring up to 15 pieces of clothes t
 o swap<br /><strong>Volunteer</strong>: If you can help, contact Jennifer o
 r Holly, <joomla-hidden-mail  is-link="1" is-email="1" first="aGFuc2VhdGlja
 GVscA==" last="YXdjaGFtYnVyZy5vcmc=" text="aGFuc2VhdGljaGVscEBhd2NoYW1idXJn
 Lm9yZw==" base="" >This email address is being protected from spambots. You
  need JavaScript enabled to view it.</joomla-hidden-mail><br /><br /></p>
CONTACT:Holly (This email address is being protected from spambots. You need JavaScript enabled to view it.) or Jennifer (This email address is being protected from spambots. You need JavaScript enabled to view it.)
DTSTAMP:20260422T195742
DTSTART;TZID=Europe/Berlin:20241110T120000
DTEND;TZID=Europe/Berlin:20241110T170000
SEQUENCE:0
TRANSP:OPAQUE
END:VEVENT
END:VCALENDAR