BEGIN:VCALENDAR
VERSION:2.0
PRODID:-//jEvents 2.0 for Joomla//EN
CALSCALE:GREGORIAN
METHOD:PUBLISH
BEGIN:VTIMEZONE
TZID:Europe/Berlin
BEGIN:STANDARD
DTSTART:20231029T020000
RDATE:20240331T030000
TZOFFSETFROM:+0200
TZOFFSETTO:+0100
TZNAME:Europe/Berlin CET
END:STANDARD
BEGIN:STANDARD
DTSTART:20241027T020000
RDATE:20250330T030000
TZOFFSETFROM:+0200
TZOFFSETTO:+0100
TZNAME:Europe/Berlin CET
END:STANDARD
BEGIN:STANDARD
DTSTART:20251026T020000
RDATE:20260329T030000
TZOFFSETFROM:+0200
TZOFFSETTO:+0100
TZNAME:Europe/Berlin CET
END:STANDARD
BEGIN:STANDARD
DTSTART:20261025T020000
RDATE:20270328T030000
TZOFFSETFROM:+0200
TZOFFSETTO:+0100
TZNAME:Europe/Berlin CET
END:STANDARD
BEGIN:STANDARD
DTSTART:20271031T020000
RDATE:20280326T030000
TZOFFSETFROM:+0200
TZOFFSETTO:+0100
TZNAME:Europe/Berlin CET
END:STANDARD
BEGIN:STANDARD
DTSTART:20281029T020000
RDATE:20290325T030000
TZOFFSETFROM:+0200
TZOFFSETTO:+0100
TZNAME:Europe/Berlin CET
END:STANDARD
BEGIN:STANDARD
DTSTART:20291028T020000
RDATE:20300331T030000
TZOFFSETFROM:+0200
TZOFFSETTO:+0100
TZNAME:Europe/Berlin CET
END:STANDARD
BEGIN:STANDARD
DTSTART:20301027T020000
RDATE:20310330T030000
TZOFFSETFROM:+0200
TZOFFSETTO:+0100
TZNAME:Europe/Berlin CET
END:STANDARD
BEGIN:STANDARD
DTSTART:20311026T020000
RDATE:20320328T030000
TZOFFSETFROM:+0200
TZOFFSETTO:+0100
TZNAME:Europe/Berlin CET
END:STANDARD
BEGIN:STANDARD
DTSTART:20321031T020000
RDATE:20330327T030000
TZOFFSETFROM:+0200
TZOFFSETTO:+0100
TZNAME:Europe/Berlin CET
END:STANDARD
BEGIN:STANDARD
DTSTART:20331030T020000
RDATE:20340326T030000
TZOFFSETFROM:+0200
TZOFFSETTO:+0100
TZNAME:Europe/Berlin CET
END:STANDARD
BEGIN:STANDARD
DTSTART:20341029T020000
RDATE:20350325T030000
TZOFFSETFROM:+0200
TZOFFSETTO:+0100
TZNAME:Europe/Berlin CET
END:STANDARD
BEGIN:STANDARD
DTSTART:20351028T020000
RDATE:20360330T030000
TZOFFSETFROM:+0200
TZOFFSETTO:+0100
TZNAME:Europe/Berlin CET
END:STANDARD
BEGIN:STANDARD
DTSTART:20361026T020000
RDATE:20370329T030000
TZOFFSETFROM:+0200
TZOFFSETTO:+0100
TZNAME:Europe/Berlin CET
END:STANDARD
BEGIN:DAYLIGHT
DTSTART:20230803T120000
RDATE:20231029T020000
TZOFFSETFROM:+0100
TZOFFSETTO:+0200
TZNAME:Europe/Berlin CEST
END:DAYLIGHT
BEGIN:DAYLIGHT
DTSTART:20240331T030000
RDATE:20241027T020000
TZOFFSETFROM:+0100
TZOFFSETTO:+0200
TZNAME:Europe/Berlin CEST
END:DAYLIGHT
BEGIN:DAYLIGHT
DTSTART:20250330T030000
RDATE:20251026T020000
TZOFFSETFROM:+0100
TZOFFSETTO:+0200
TZNAME:Europe/Berlin CEST
END:DAYLIGHT
BEGIN:DAYLIGHT
DTSTART:20260329T030000
RDATE:20261025T020000
TZOFFSETFROM:+0100
TZOFFSETTO:+0200
TZNAME:Europe/Berlin CEST
END:DAYLIGHT
BEGIN:DAYLIGHT
DTSTART:20270328T030000
RDATE:20271031T020000
TZOFFSETFROM:+0100
TZOFFSETTO:+0200
TZNAME:Europe/Berlin CEST
END:DAYLIGHT
BEGIN:DAYLIGHT
DTSTART:20280326T030000
RDATE:20281029T020000
TZOFFSETFROM:+0100
TZOFFSETTO:+0200
TZNAME:Europe/Berlin CEST
END:DAYLIGHT
BEGIN:DAYLIGHT
DTSTART:20290325T030000
RDATE:20291028T020000
TZOFFSETFROM:+0100
TZOFFSETTO:+0200
TZNAME:Europe/Berlin CEST
END:DAYLIGHT
BEGIN:DAYLIGHT
DTSTART:20300331T030000
RDATE:20301027T020000
TZOFFSETFROM:+0100
TZOFFSETTO:+0200
TZNAME:Europe/Berlin CEST
END:DAYLIGHT
BEGIN:DAYLIGHT
DTSTART:20310330T030000
RDATE:20311026T020000
TZOFFSETFROM:+0100
TZOFFSETTO:+0200
TZNAME:Europe/Berlin CEST
END:DAYLIGHT
BEGIN:DAYLIGHT
DTSTART:20320328T030000
RDATE:20321031T020000
TZOFFSETFROM:+0100
TZOFFSETTO:+0200
TZNAME:Europe/Berlin CEST
END:DAYLIGHT
BEGIN:DAYLIGHT
DTSTART:20330327T030000
RDATE:20331030T020000
TZOFFSETFROM:+0100
TZOFFSETTO:+0200
TZNAME:Europe/Berlin CEST
END:DAYLIGHT
BEGIN:DAYLIGHT
DTSTART:20340326T030000
RDATE:20341029T020000
TZOFFSETFROM:+0100
TZOFFSETTO:+0200
TZNAME:Europe/Berlin CEST
END:DAYLIGHT
BEGIN:DAYLIGHT
DTSTART:20350325T030000
RDATE:20351028T020000
TZOFFSETFROM:+0100
TZOFFSETTO:+0200
TZNAME:Europe/Berlin CEST
END:DAYLIGHT
BEGIN:DAYLIGHT
DTSTART:20360330T030000
RDATE:20361026T020000
TZOFFSETFROM:+0100
TZOFFSETTO:+0200
TZNAME:Europe/Berlin CEST
END:DAYLIGHT
END:VTIMEZONE
BEGIN:VEVENT
UID:8c59fe304be7457c528b954ff1a530fd
CATEGORIES:Hamburg Happenings
CREATED:20240729T193530
SUMMARY:Hamburg Pride parade with US Consul General 
LOCATION:Mönckebergstraße. You will receive details about where to meet after you em
 ail the Consul General's office.
DESCRIPTION:Dear American Women’s Club of Hamburg Members,\nNamed after the famed Chris
 topher Street in New York City, the site of the 1969 Stonewall Riots that s
 parked the modern LGBTQI rights movement, CSD is a chance for the internati
 onal community to show support for the human rights of LGBTQI persons. Once
  again, U.S. Consul General Jason Chue is organizing a group to march in th
 is year’s CSD on Saturday, August 3 at approximately 12:00 noon. More infor
 mation about the event is available here:  (https://www.hamburg-pride.de/pr
 ide-2024/csd-demo)https://www.hamburg-pride.de/pride-2024/csd-demo (https:/
 /www.hamburg-pride.de/pride-2024/csd-demo). \nIf you would like to join our
  marching group this year, please send us your name, e-mail, and mobile num
 ber.  We will send information about the meeting location and time as soon 
 as they are available.\nConsul General Chue appreciates your time and atten
 tion.\nSincerely yours, \nProtocol Section\nUS Consulate General Hamburg\nR
 equired RSVP:  AWCH members who are logged in will see the US Consul Genera
 l's email address below. Please send an email telling them that you (and yo
 ur guests) would like to attend, with your name, email, and phone number. T
 hey will reply with further details. \nOptional RSVP: You can note below if
  you will be at the event, so you can know which other AWCH members will be
  there! \n
X-ALT-DESC;FMTTYPE=text/html:<hr /><p>Dear American Women’s Club of Hamburg Members,</p><p>Named after t
 he famed Christopher Street in New York City, the site of the 1969 Stonewal
 l Riots that sparked the modern LGBTQI rights movement, CSD is a chance for
  the international community to show support for the human rights of LGBTQI
  persons. Once again, U.S.&nbsp;Consul&nbsp;General Jason Chue is organizin
 g a group to march in this year’s CSD on Saturday, August 3 at approximatel
 y 12:00 noon. More information about the event is available here:&nbsp;<a h
 ref="https://www.hamburg-pride.de/pride-2024/csd-demo" data-saferedirecturl
 ="https://www.google.com/url?q=https://www.hamburg-pride.de/pride-2024/csd-
 demo&amp;source=gmail&amp;ust=1722360173160000&amp;usg=AOvVaw27LatQs5dvAlMD
 mnxmTt-7"></a><a href="https://www.hamburg-pride.de/pride-2024/csd-demo">ht
 tps://www.hamburg-pride.de/pride-2024/csd-demo</a>.&nbsp;</p><p>If you woul
 d like to join our marching group this year, please send us your name, e-ma
 il, and mobile number.&nbsp; We will send information about the meeting loc
 ation and time as soon as they are available.</p><p>Consul&nbsp;General Chu
 e appreciates your time and attention.</p><p>Sincerely yours,&nbsp;</p><p>P
 rotocol Section<br />US Consulate General Hamburg</p><hr /><p><strong>Requi
 red RSVP:&nbsp;</strong>&nbsp;AWCH members who are logged in will see the U
 S Consul General's email address below. Please send an email telling them t
 hat you (and your guests) would like to attend, with your name, email, and 
 phone number. They will reply with further details.&nbsp;</p><p><strong>Opt
 ional RSVP:&nbsp;</strong>You can note below if you will be at the event, s
 o you can know which other AWCH members will be there!&nbsp;</p>
CONTACT:This email address is being protected from spambots. You need JavaScript enabled to view it.
DTSTAMP:20260422T235255
DTSTART;TZID=Europe/Berlin:20240803T120000
SEQUENCE:0
TRANSP:OPAQUE
END:VEVENT
END:VCALENDAR