BEGIN:VCALENDAR
VERSION:2.0
PRODID:-//jEvents 2.0 for Joomla//EN
CALSCALE:GREGORIAN
METHOD:PUBLISH
BEGIN:VTIMEZONE
TZID:Europe/Berlin
BEGIN:STANDARD
DTSTART:20251026T020000
RDATE:20260329T030000
TZOFFSETFROM:+0200
TZOFFSETTO:+0100
TZNAME:Europe/Berlin CET
END:STANDARD
BEGIN:STANDARD
DTSTART:20261025T020000
RDATE:20270328T030000
TZOFFSETFROM:+0200
TZOFFSETTO:+0100
TZNAME:Europe/Berlin CET
END:STANDARD
BEGIN:STANDARD
DTSTART:20271031T020000
RDATE:20280326T030000
TZOFFSETFROM:+0200
TZOFFSETTO:+0100
TZNAME:Europe/Berlin CET
END:STANDARD
BEGIN:STANDARD
DTSTART:20281029T020000
RDATE:20290325T030000
TZOFFSETFROM:+0200
TZOFFSETTO:+0100
TZNAME:Europe/Berlin CET
END:STANDARD
BEGIN:STANDARD
DTSTART:20291028T020000
RDATE:20300331T030000
TZOFFSETFROM:+0200
TZOFFSETTO:+0100
TZNAME:Europe/Berlin CET
END:STANDARD
BEGIN:STANDARD
DTSTART:20301027T020000
RDATE:20310330T030000
TZOFFSETFROM:+0200
TZOFFSETTO:+0100
TZNAME:Europe/Berlin CET
END:STANDARD
BEGIN:STANDARD
DTSTART:20311026T020000
RDATE:20320328T030000
TZOFFSETFROM:+0200
TZOFFSETTO:+0100
TZNAME:Europe/Berlin CET
END:STANDARD
BEGIN:STANDARD
DTSTART:20321031T020000
RDATE:20330327T030000
TZOFFSETFROM:+0200
TZOFFSETTO:+0100
TZNAME:Europe/Berlin CET
END:STANDARD
BEGIN:STANDARD
DTSTART:20331030T020000
RDATE:20340326T030000
TZOFFSETFROM:+0200
TZOFFSETTO:+0100
TZNAME:Europe/Berlin CET
END:STANDARD
BEGIN:STANDARD
DTSTART:20341029T020000
RDATE:20350325T030000
TZOFFSETFROM:+0200
TZOFFSETTO:+0100
TZNAME:Europe/Berlin CET
END:STANDARD
BEGIN:STANDARD
DTSTART:20351028T020000
RDATE:20360330T030000
TZOFFSETFROM:+0200
TZOFFSETTO:+0100
TZNAME:Europe/Berlin CET
END:STANDARD
BEGIN:STANDARD
DTSTART:20361026T020000
RDATE:20370329T030000
TZOFFSETFROM:+0200
TZOFFSETTO:+0100
TZNAME:Europe/Berlin CET
END:STANDARD
BEGIN:DAYLIGHT
DTSTART:20250606T100000
RDATE:20251026T020000
TZOFFSETFROM:+0100
TZOFFSETTO:+0200
TZNAME:Europe/Berlin CEST
END:DAYLIGHT
BEGIN:DAYLIGHT
DTSTART:20260329T030000
RDATE:20261025T020000
TZOFFSETFROM:+0100
TZOFFSETTO:+0200
TZNAME:Europe/Berlin CEST
END:DAYLIGHT
BEGIN:DAYLIGHT
DTSTART:20270328T030000
RDATE:20271031T020000
TZOFFSETFROM:+0100
TZOFFSETTO:+0200
TZNAME:Europe/Berlin CEST
END:DAYLIGHT
BEGIN:DAYLIGHT
DTSTART:20280326T030000
RDATE:20281029T020000
TZOFFSETFROM:+0100
TZOFFSETTO:+0200
TZNAME:Europe/Berlin CEST
END:DAYLIGHT
BEGIN:DAYLIGHT
DTSTART:20290325T030000
RDATE:20291028T020000
TZOFFSETFROM:+0100
TZOFFSETTO:+0200
TZNAME:Europe/Berlin CEST
END:DAYLIGHT
BEGIN:DAYLIGHT
DTSTART:20300331T030000
RDATE:20301027T020000
TZOFFSETFROM:+0100
TZOFFSETTO:+0200
TZNAME:Europe/Berlin CEST
END:DAYLIGHT
BEGIN:DAYLIGHT
DTSTART:20310330T030000
RDATE:20311026T020000
TZOFFSETFROM:+0100
TZOFFSETTO:+0200
TZNAME:Europe/Berlin CEST
END:DAYLIGHT
BEGIN:DAYLIGHT
DTSTART:20320328T030000
RDATE:20321031T020000
TZOFFSETFROM:+0100
TZOFFSETTO:+0200
TZNAME:Europe/Berlin CEST
END:DAYLIGHT
BEGIN:DAYLIGHT
DTSTART:20330327T030000
RDATE:20331030T020000
TZOFFSETFROM:+0100
TZOFFSETTO:+0200
TZNAME:Europe/Berlin CEST
END:DAYLIGHT
BEGIN:DAYLIGHT
DTSTART:20340326T030000
RDATE:20341029T020000
TZOFFSETFROM:+0100
TZOFFSETTO:+0200
TZNAME:Europe/Berlin CEST
END:DAYLIGHT
BEGIN:DAYLIGHT
DTSTART:20350325T030000
RDATE:20351028T020000
TZOFFSETFROM:+0100
TZOFFSETTO:+0200
TZNAME:Europe/Berlin CEST
END:DAYLIGHT
BEGIN:DAYLIGHT
DTSTART:20360330T030000
RDATE:20361026T020000
TZOFFSETFROM:+0100
TZOFFSETTO:+0200
TZNAME:Europe/Berlin CEST
END:DAYLIGHT
END:VTIMEZONE
BEGIN:VEVENT
UID:a8620d6bceab9907022a0f204f935669
CATEGORIES:AWCH Calendar
CREATED:20260423T152159
SUMMARY:Hikes, Hounds, & Happiness! Episode 3
LOCATION:Meeting at Bahnhof Dammtor\, outside of McDonalds 
DESCRIPTION: \nJoin us for a relaxed and joyful walk through the beautiful Alter Botani
 scher Garten, where natrue, good company, and our four-legged friends come 
 together. Stoll along leafy paths, enjoy the fresh air, and take in the pea
 ceful surroundings as we explore at an easy, social pace.\nWhether you’re b
 ringing an energetic pup, a wise old dog, or simply a love for being around
  them, you’re very welcome. And if you don’t have a dog, that’s perfectly f
 ine—come along to enjoy the scenery, the company, and a little extra tail-w
 agging joy.\n\n📍 The Details\n* When: June 7th from 10:00 - 13:00\n* The Me
 eting Point: Meeting at Bahnhof Dammtor, outside of McDonalds \n* The Journ
 ey: A gentle, laid-back stroll inside the Alter Botanischer Garten. We’ll l
 et the pups set a relaxed pace while we enjoy the scenery and great chats.\
 n\n✨ Who is Invited?\nThis is a day for everyone. All paws are welcome, and
  all humans—whether you're bringing a "dog baby" or just yourself—are encou
 raged to join the pack.\n\n🗓️ How to Join\nTo ensure we reserve the perfect
  table at the café, please let us know you’re coming!\nRSVP: After confirmi
 ng your spot, please contact Ingrid via WhatsApp. If you don’t have the num
 ber, feel free to send a quick email.\nPlease mention how many humans and h
 ounds will be in your party. We can’t wait to see you all on the trail for 
 a day of simple joys and wagging tails!\n\nGood vibes, fresh air, and happy
  paws await. 🐕✨\nCosts: None, but each one must pay their own food and drin
 k expenses\nCancellation: Two days before event\nCancellation costs: €10 fe
 e for cancellation will be charged (even if event is free)\nDisclaimer: Dog
  owners are fully responsible for their dog’s behavior at all times during 
 the walk. Any incidents, injuries, or damages caused by pets are the sole r
 esponsibility of the owner. \n
X-ALT-DESC;FMTTYPE=text/html:<p>&nbsp;</p><p><span style="font-size: 12pt;">Join us for a relaxed and jo
 yful walk through the beautiful Alter Botanischer Garten, where natrue, goo
 d company, and our four-legged friends come together. Stoll along leafy pat
 hs, enjoy the fresh air, and take in the peaceful surroundings as we explor
 e at an easy, social pace.</span></p><p><span style="font-size: 12pt;">Whet
 her you’re bringing an energetic pup, a wise old dog, or simply a love for 
 being around them, you’re very welcome. And if you don’t have a dog, that’s
  perfectly fine—come along to enjoy the scenery, the company, and a little 
 extra tail-wagging joy.<br /><br />📍 <strong>The Details</strong><br />* Wh
 en: June 7th from 10:00 - 13:00<br />* The Meeting Point:&nbsp;Meeting at B
 ahnhof Dammtor, outside of McDonalds <br />* The Journey: A gentle, laid-ba
 ck stroll inside the <span style="font-size: 12pt;">Alter Botanischer Garte
 n.&nbsp;</span>We’ll let the pups set a relaxed pace while we enjoy the sce
 nery and great chats.<br /><br />✨ Who is Invited?<br />This is a day for e
 veryone. All paws are welcome, and all humans—whether you're bringing a "do
 g baby" or just yourself—are encouraged to join the pack.<br /><br />🗓️ How
  to Join<br />To ensure we reserve the perfect table at the café, please le
 t us know you’re coming!<br />RSVP: After confirming your spot, please cont
 act Ingrid via WhatsApp. If you don’t have the number, feel free to send a 
 quick email.<br />Please mention how many humans and hounds will be in your
  party. We can’t wait to see you all on the trail for a day of simple joys 
 and wagging tails!<br /><br />Good vibes, fresh air, and happy paws await. 
 🐕✨</span></p><p><span style="font-size: 12pt;"><strong>Costs:</strong>&nbsp
 ;None, but each one must pay their own food and drink expenses</span></p><p
 ><span style="font-size: 12pt;"><strong>Cancellation:</strong>&nbsp;Two day
 s before event</span></p><p><span style="font-size: 12pt;"><strong>Cancella
 tion costs:</strong>&nbsp;€10 fee for cancellation will be charged (even if
  event is free)</span></p><p><span style="font-size: 12pt;"><strong>Disclai
 mer:&nbsp;</strong><em>Dog owners are fully responsible for their dog’s beh
 avior at all times during the walk. Any incidents, injuries, or damages cau
 sed by pets are the sole responsibility of the owner.&nbsp;</em></span></p>
CONTACT:This email address is being protected from spambots. You need JavaScript enabled to view it.; Ingrid Nyashanu
X-EXTRAINFO:Hamburg Dammtor station is directly served by S-Bahn lines S2, S5, and S11.
  While no U-Bahn line stops directly inside the station, the U1 line serves
  the nearby Stephansplatz and it is a small walk to McDonalds in the Dammto
 r station.
DTSTAMP:20260425T172036
DTSTART;TZID=Europe/Berlin:20260607T100000
DTEND;TZID=Europe/Berlin:20260607T130000
SEQUENCE:0
TRANSP:OPAQUE
END:VEVENT
END:VCALENDAR